BEGIN:VCALENDAR
VERSION:2.0
PRODID:-//Pearl Coast Gymnastics Club - ECPv6.15.20//NONSGML v1.0//EN
CALSCALE:GREGORIAN
METHOD:PUBLISH
X-ORIGINAL-URL:https://pearlcoastgymnastics.com.au
X-WR-CALDESC:Events for Pearl Coast Gymnastics Club
REFRESH-INTERVAL;VALUE=DURATION:PT1H
X-Robots-Tag:noindex
X-PUBLISHED-TTL:PT1H
BEGIN:VTIMEZONE
TZID:Australia/Perth
BEGIN:STANDARD
TZOFFSETFROM:+0800
TZOFFSETTO:+0800
TZNAME:AWST
DTSTART:20250101T000000
END:STANDARD
END:VTIMEZONE
BEGIN:VEVENT
DTSTART;VALUE=DATE:20260402
DTEND;VALUE=DATE:20260430
DTSTAMP:20260418T141402
CREATED:20260402T130315Z
LAST-MODIFIED:20260407T054648Z
UID:3277-1775088000-1777507199@pearlcoastgymnastics.com.au
SUMMARY:NO NORMAL CLASSES
DESCRIPTION:During this period there is no normal gymnastics classes on.
URL:https://pearlcoastgymnastics.com.au/event/no-normal-classes/
CATEGORIES:Term Dates
END:VEVENT
END:VCALENDAR